BEGIN:VCALENDAR
VERSION:2.0
PRODID:calendify.com
BEGIN:VEVENT
UID:calendify-session-dz04jlj0M3N
DTSTART:20231229T231000Z
SEQUENCE:0
TRANSP:OPAQUE
DTEND:20231230T001000Z
URL:https://calendify.com/session/dz04jlj0M3N
LOCATION:Stage Y
SUMMARY:Hebocon
CLASS:PUBLIC
DESCRIPTION:https://calendify.com/session/dz04jlj0M3N
DTSTAMP:20260423T015727Z
CREATED:20231227T231002Z
LAST-MODIFIED:20240401T142932Z
END:VEVENT
END:VCALENDAR