BEGIN:VCALENDAR
VERSION:2.0
PRODID:calendify.com
BEGIN:VEVENT
UID:calendify-session-dz04jlzlM3N
DTSTART:20230903T071000Z
SEQUENCE:0
TRANSP:OPAQUE
DTEND:20230903T080000Z
URL:https://calendify.com/session/dz04jlzlM3N
LOCATION:C205 - Gehirnwäscher
SUMMARY:Beyond Dashboards: Wie man aus Timeseries Daten Signale generiert
CLASS:PUBLIC
DESCRIPTION:https://calendify.com/session/dz04jlzlM3N
DTSTAMP:20260422T183916Z
CREATED:20240328T132702Z
LAST-MODIFIED:20240328T132702Z
END:VEVENT
END:VCALENDAR