BEGIN:VCALENDAR
VERSION:2.0
PRODID:calendify.com
BEGIN:VEVENT
UID:calendify-session-dz04jpl2M3N
DTSTART:20161229T210000Z
SEQUENCE:0
TRANSP:OPAQUE
DTEND:20161229T213000Z
URL:https://calendify.com/session/dz04jpl2M3N
LOCATION:Saal 2
SUMMARY:What We Can Learn about Creativity from 3D Printing
CLASS:PUBLIC
DESCRIPTION:https://calendify.com/session/dz04jpl2M3N
DTSTAMP:20260420T124750Z
CREATED:20220415T135303Z
LAST-MODIFIED:20220415T135303Z
END:VEVENT
END:VCALENDAR