BEGIN:VCALENDAR
VERSION:2.0
PRODID:calendify.com
BEGIN:VEVENT
UID:calendify-session-dz04jpvzM3N
DTSTART:20220610T151500Z
SEQUENCE:0
TRANSP:OPAQUE
DTEND:20220610T153000Z
URL:https://calendify.com/session/dz04jpvzM3N
LOCATION:Stage 1
SUMMARY:Die Polizei: Von der Helferin zum Problem?
CLASS:PUBLIC
DESCRIPTION:https://calendify.com/session/dz04jpvzM3N
DTSTAMP:20260423T214559Z
CREATED:20220526T162947Z
LAST-MODIFIED:20220613T235204Z
END:VEVENT
END:VCALENDAR