BEGIN:VCALENDAR
VERSION:2.0
PRODID:calendify.com
BEGIN:VEVENT
UID:calendify-session-dz04jpyoM3N
DTSTART:20161228T161500Z
SEQUENCE:0
TRANSP:OPAQUE
DTEND:20161228T171500Z
URL:https://calendify.com/session/dz04jpyoM3N
LOCATION:Saal 1
SUMMARY:3 Years After Snowden: Is Germany fighting State Surveillance?
CLASS:PUBLIC
DESCRIPTION:https://calendify.com/session/dz04jpyoM3N
DTSTAMP:20260420T084307Z
CREATED:20220415T135303Z
LAST-MODIFIED:20220415T135303Z
END:VEVENT
END:VCALENDAR