BEGIN:VCALENDAR
VERSION:2.0
PRODID:calendify.com
BEGIN:VEVENT
UID:calendify-session-dz04jy8lg3N
DTSTART:20221228T140000Z
SEQUENCE:0
TRANSP:OPAQUE
DTEND:20221228T150000Z
URL:https://calendify.com/session/dz04jy8lg3N
LOCATION:HIP - Track 2 - Room 2
SUMMARY:Exploring social media reactions to conflicts in 2022
CLASS:PUBLIC
DESCRIPTION:https://calendify.com/session/dz04jy8lg3N
DTSTAMP:20260423T191848Z
CREATED:20221218T163040Z
LAST-MODIFIED:20221230T225002Z
END:VEVENT
END:VCALENDAR