BEGIN:VCALENDAR
VERSION:2.0
PRODID:calendify.com
BEGIN:VEVENT
UID:calendify-session-dz04jyV9g3N
DTSTART:20221229T180000Z
SEQUENCE:0
TRANSP:OPAQUE
DTEND:20221229T183000Z
URL:https://calendify.com/session/dz04jyV9g3N
LOCATION:xrelog22 - Stream
SUMMARY:Third Room: Decentralized Virtual Worlds on Matrix
CLASS:PUBLIC
DESCRIPTION:https://calendify.com/session/dz04jyV9g3N
DTSTAMP:20260424T015124Z
CREATED:20221218T163048Z
LAST-MODIFIED:20221230T225007Z
END:VEVENT
END:VCALENDAR