BEGIN:VCALENDAR
VERSION:2.0
PRODID:calendify.com
BEGIN:VEVENT
UID:calendify-session-e2bOy6JXMw1
DTSTART:20200201T150500Z
SEQUENCE:0
TRANSP:OPAQUE
DTEND:20200201T154500Z
URL:https://calendify.com/session/e2bOy6JXMw1
LOCATION:K.4.201
SUMMARY:Ask LLVM developers Anything Panel
CLASS:PUBLIC
DESCRIPTION:https://calendify.com/session/e2bOy6JXMw1
DTSTAMP:20260423T134257Z
CREATED:20200513T234730Z
LAST-MODIFIED:20210426T093308Z
END:VEVENT
END:VCALENDAR