BEGIN:VCALENDAR
VERSION:2.0
PRODID:calendify.com
BEGIN:VEVENT
UID:calendify-session-e2bOy6ZXMw1
DTSTART:20200201T123000Z
SEQUENCE:0
TRANSP:OPAQUE
DTEND:20200201T125500Z
URL:https://calendify.com/session/e2bOy6ZXMw1
LOCATION:UB2.252A (Lameere)
SUMMARY:When Python meets GraphQL: Managing contributors identities in your
  open source project
CLASS:PUBLIC
DESCRIPTION:https://calendify.com/session/e2bOy6ZXMw1
DTSTAMP:20260422T213438Z
CREATED:20200513T234730Z
LAST-MODIFIED:20210426T093308Z
END:VEVENT
END:VCALENDAR