BEGIN:VCALENDAR
VERSION:2.0
PRODID:calendify.com
BEGIN:VEVENT
UID:calendify-session-e2bOy6dKMw1
DTSTART:20200202T130000Z
SEQUENCE:0
TRANSP:OPAQUE
DTEND:20200202T135000Z
URL:https://calendify.com/session/e2bOy6dKMw1
LOCATION:Janson
SUMMARY:AMENDMENT Open Source Won\, but Software Freedom Hasn't Yet
CLASS:PUBLIC
DESCRIPTION:https://calendify.com/session/e2bOy6dKMw1
DTSTAMP:20260423T062200Z
CREATED:20200513T234731Z
LAST-MODIFIED:20210426T093308Z
END:VEVENT
END:VCALENDAR