BEGIN:VCALENDAR
VERSION:2.0
PRODID:calendify.com
BEGIN:VEVENT
UID:calendify-session-e2bOy9DQOw1
DTSTART:20241229T191500Z
SEQUENCE:0
TRANSP:OPAQUE
DTEND:20241229T195500Z
URL:https://calendify.com/session/e2bOy9DQOw1
LOCATION:Saal ZIGZAG
SUMMARY:Hacking Life: How to decode and manipulate biological cells with AI
CLASS:PUBLIC
DESCRIPTION:https://calendify.com/session/e2bOy9DQOw1
DTSTAMP:20260424T000410Z
CREATED:20241208T214808Z
LAST-MODIFIED:20251019T194651Z
END:VEVENT
END:VCALENDAR