BEGIN:VCALENDAR
VERSION:2.0
PRODID:calendify.com
BEGIN:VEVENT
UID:calendify-session-e2bOy9RNOw1
DTSTART:20240921T134500Z
SEQUENCE:0
TRANSP:OPAQUE
DTEND:20240921T144500Z
URL:https://calendify.com/session/e2bOy9RNOw1
LOCATION:Seminarraum
SUMMARY:Regiotreffen
CLASS:PUBLIC
DESCRIPTION:https://calendify.com/session/e2bOy9RNOw1
DTSTAMP:20260420T234820Z
CREATED:20241208T220338Z
LAST-MODIFIED:20241208T220338Z
END:VEVENT
END:VCALENDAR