BEGIN:VCALENDAR
VERSION:2.0
PRODID:calendify.com
BEGIN:VEVENT
UID:calendify-session-e2bOyA16Ow1
DTSTART:20211030T100000Z
SEQUENCE:0
TRANSP:OPAQUE
DTEND:20211030T104500Z
URL:https://calendify.com/session/e2bOyA16Ow1
LOCATION:Stream
SUMMARY:PApTCHA: Partially Automated private Turing test to tell Computers 
 and Humans Apart
CLASS:PUBLIC
DESCRIPTION:https://calendify.com/session/e2bOyA16Ow1
DTSTAMP:20260424T003708Z
CREATED:20211002T132351Z
LAST-MODIFIED:20211101T215003Z
END:VEVENT
END:VCALENDAR