BEGIN:VCALENDAR
VERSION:2.0
PRODID:calendify.com
BEGIN:VEVENT
UID:calendify-session-e2bOyA6DOw1
DTSTART:20210311T144500Z
SEQUENCE:0
TRANSP:OPAQUE
DTEND:20210311T154500Z
URL:https://calendify.com/session/e2bOyA6DOw1
LOCATION:Zoom Room 6B
SUMMARY:Emergent Session 3
CLASS:PUBLIC
DESCRIPTION:https://calendify.com/session/e2bOyA6DOw1
DTSTAMP:20260420T185518Z
CREATED:20210426T094928Z
LAST-MODIFIED:20210426T094928Z
END:VEVENT
END:VCALENDAR