BEGIN:VCALENDAR
VERSION:2.0
PRODID:calendify.com
BEGIN:VEVENT
UID:calendify-session-e2bOyA6GOw1
DTSTART:20210312T133000Z
SEQUENCE:0
TRANSP:OPAQUE
DTEND:20210312T143000Z
URL:https://calendify.com/session/e2bOyA6GOw1
LOCATION:Zoom Room 1A
SUMMARY:Open in New Tab: Living with ADHD on the Internet
CLASS:PUBLIC
DESCRIPTION:https://calendify.com/session/e2bOyA6GOw1
DTSTAMP:20260420T203254Z
CREATED:20210426T094928Z
LAST-MODIFIED:20210426T094928Z
END:VEVENT
END:VCALENDAR