BEGIN:VCALENDAR
VERSION:2.0
PRODID:calendify.com
BEGIN:VEVENT
UID:calendify-session-e2bOyA8NOw1
DTSTART:20210522T105500Z
SEQUENCE:0
TRANSP:OPAQUE
DTEND:20210522T110000Z
URL:https://calendify.com/session/e2bOyA8NOw1
LOCATION:TINCON
SUMMARY:Warum du eine Maske tragen solltest
CLASS:PUBLIC
DESCRIPTION:https://calendify.com/session/e2bOyA8NOw1
DTSTAMP:20260423T004637Z
CREATED:20210517T070101Z
LAST-MODIFIED:20210524T215002Z
END:VEVENT
END:VCALENDAR