BEGIN:VCALENDAR
VERSION:2.0
PRODID:calendify.com
BEGIN:VEVENT
UID:calendify-session-e2bOyAAxOw1
DTSTART:20210316T090000Z
SEQUENCE:0
TRANSP:OPAQUE
DTEND:20210316T103000Z
URL:https://calendify.com/session/e2bOyAAxOw1
LOCATION:Zoom Room 1A
SUMMARY:Making AI Matter Hands-On Workshop | Help Us Solve Global Health\, 
 Climate Change\, and Education Access
CLASS:PUBLIC
DESCRIPTION:https://calendify.com/session/e2bOyAAxOw1
DTSTAMP:20260421T154638Z
CREATED:20210426T094928Z
LAST-MODIFIED:20210426T094928Z
END:VEVENT
END:VCALENDAR