BEGIN:VCALENDAR
VERSION:2.0
PRODID:calendify.com
BEGIN:VEVENT
UID:calendify-session-e2bOyAEDOw1
DTSTART:20210309T181500Z
SEQUENCE:0
TRANSP:OPAQUE
DTEND:20210309T191500Z
URL:https://calendify.com/session/e2bOyAEDOw1
LOCATION:Zoom Room 3B
SUMMARY:Psychosocial Accompaniment for Sustainable Resistance
CLASS:PUBLIC
DESCRIPTION:https://calendify.com/session/e2bOyAEDOw1
DTSTAMP:20260425T205318Z
CREATED:20210426T094927Z
LAST-MODIFIED:20210426T094927Z
END:VEVENT
END:VCALENDAR