BEGIN:VCALENDAR
VERSION:2.0
PRODID:calendify.com
BEGIN:VEVENT
UID:calendify-session-e2bOyALROw1
DTSTART:20220205T144500Z
SEQUENCE:0
TRANSP:OPAQUE
DTEND:20220205T145500Z
URL:https://calendify.com/session/e2bOyALROw1
LOCATION:D.testing
SUMMARY:Oniro CI/Testing integration with LAVA
CLASS:PUBLIC
DESCRIPTION:https://calendify.com/session/e2bOyALROw1
DTSTAMP:20260423T012034Z
CREATED:20220120T214604Z
LAST-MODIFIED:20220206T225003Z
END:VEVENT
END:VCALENDAR