BEGIN:VCALENDAR
VERSION:2.0
PRODID:calendify.com
BEGIN:VEVENT
UID:calendify-session-e2bOyANKOw1
DTSTART:20211229T170000Z
SEQUENCE:0
TRANSP:OPAQUE
DTEND:20211229T180000Z
URL:https://calendify.com/session/e2bOyANKOw1
LOCATION:Haecksen Stream
SUMMARY:Cyberpunk 2022 - wo Brain-Computer-Interfaces auf Grundrechte treff
 en
CLASS:PUBLIC
DESCRIPTION:https://calendify.com/session/e2bOyANKOw1
DTSTAMP:20260420T153514Z
CREATED:20211220T014017Z
LAST-MODIFIED:20211230T225002Z
END:VEVENT
END:VCALENDAR