BEGIN:VCALENDAR
VERSION:2.0
PRODID:calendify.com
BEGIN:VEVENT
UID:calendify-session-e2bOyAPKOw1
DTSTART:20211229T150000Z
SEQUENCE:0
TRANSP:OPAQUE
DTEND:20211229T154000Z
URL:https://calendify.com/session/e2bOyAPKOw1
LOCATION:Chaos-West TV
SUMMARY:Union Busting -What is it and why you should care
CLASS:PUBLIC
DESCRIPTION:https://calendify.com/session/e2bOyAPKOw1
DTSTAMP:20260422T201726Z
CREATED:20211220T014017Z
LAST-MODIFIED:20211230T225002Z
END:VEVENT
END:VCALENDAR