BEGIN:VCALENDAR
VERSION:2.0
PRODID:calendify.com
BEGIN:VEVENT
UID:calendify-session-e2bOyAaROw1
DTSTART:20220206T142000Z
SEQUENCE:0
TRANSP:OPAQUE
DTEND:20220206T143500Z
URL:https://calendify.com/session/e2bOyAaROw1
LOCATION:L.lightningtalks
SUMMARY:luox
CLASS:PUBLIC
DESCRIPTION:https://calendify.com/session/e2bOyAaROw1
DTSTAMP:20260420T080634Z
CREATED:20220120T214605Z
LAST-MODIFIED:20220206T225003Z
END:VEVENT
END:VCALENDAR