BEGIN:VCALENDAR
VERSION:2.0
PRODID:calendify.com
BEGIN:VEVENT
UID:calendify-session-e2bOyAbwOw1
DTSTART:20210309T170000Z
SEQUENCE:0
TRANSP:OPAQUE
DTEND:20210309T180000Z
URL:https://calendify.com/session/e2bOyAbwOw1
LOCATION:Zoom Room 1A
SUMMARY:ENTER our parallel universe &  join our Space Tiki Bar –  a fusio
 n of art and tech.
CLASS:PUBLIC
DESCRIPTION:https://calendify.com/session/e2bOyAbwOw1
DTSTAMP:20260422T153709Z
CREATED:20210426T094927Z
LAST-MODIFIED:20210426T094927Z
END:VEVENT
END:VCALENDAR