BEGIN:VCALENDAR
VERSION:2.0
PRODID:calendify.com
BEGIN:VEVENT
UID:calendify-session-e2bOyAeGOw1
DTSTART:20210314T180000Z
SEQUENCE:0
TRANSP:OPAQUE
DTEND:20210314T190000Z
URL:https://calendify.com/session/e2bOyAeGOw1
LOCATION:Zoom Room 4B
SUMMARY:Trustworthy AI Hackathon - Project Demos
CLASS:PUBLIC
DESCRIPTION:https://calendify.com/session/e2bOyAeGOw1
DTSTAMP:20260422T123937Z
CREATED:20210426T094928Z
LAST-MODIFIED:20210426T094928Z
END:VEVENT
END:VCALENDAR