BEGIN:VCALENDAR
VERSION:2.0
PRODID:calendify.com
BEGIN:VEVENT
UID:calendify-session-e2bOyAjwOw1
DTSTART:20210308T201500Z
SEQUENCE:0
TRANSP:OPAQUE
DTEND:20210308T211500Z
URL:https://calendify.com/session/e2bOyAjwOw1
LOCATION:Zoom Room 1A
SUMMARY:How do you know? Creating a space for public discussions of informa
 tion literacy and non-neutrality in data
CLASS:PUBLIC
DESCRIPTION:https://calendify.com/session/e2bOyAjwOw1
DTSTAMP:20260422T084304Z
CREATED:20210426T094926Z
LAST-MODIFIED:20210426T094926Z
END:VEVENT
END:VCALENDAR