BEGIN:VCALENDAR
VERSION:2.0
PRODID:calendify.com
BEGIN:VEVENT
UID:calendify-session-e2bOyAlNOw1
DTSTART:20220206T120500Z
SEQUENCE:0
TRANSP:OPAQUE
DTEND:20220206T123500Z
URL:https://calendify.com/session/e2bOyAlNOw1
LOCATION:D.minimalistic
SUMMARY:From tinyscheme to tr7
CLASS:PUBLIC
DESCRIPTION:https://calendify.com/session/e2bOyAlNOw1
DTSTAMP:20260422T174554Z
CREATED:20220120T214606Z
LAST-MODIFIED:20220206T225003Z
END:VEVENT
END:VCALENDAR