BEGIN:VCALENDAR
VERSION:2.0
PRODID:calendify.com
BEGIN:VEVENT
UID:calendify-session-e2bOyArXOw1
DTSTART:20211227T200000Z
SEQUENCE:0
TRANSP:OPAQUE
DTEND:20211227T210000Z
URL:https://calendify.com/session/e2bOyArXOw1
LOCATION:r3s - Monheim/Rhein
SUMMARY:ADS-B & AIS - Open Data is in the air
CLASS:PUBLIC
DESCRIPTION:https://calendify.com/session/e2bOyArXOw1
DTSTAMP:20260424T014801Z
CREATED:20211220T014016Z
LAST-MODIFIED:20211230T225002Z
END:VEVENT
END:VCALENDAR