BEGIN:VCALENDAR
VERSION:2.0
PRODID:calendify.com
BEGIN:VEVENT
UID:calendify-session-e2bOyAywOw1
DTSTART:20211229T170000Z
SEQUENCE:0
TRANSP:OPAQUE
DTEND:20211229T174500Z
URL:https://calendify.com/session/e2bOyAywOw1
LOCATION:Lichtung
SUMMARY:Gemeinsam wirken - Digitales Ehrenamt auf dem Land und in der Stadt
CLASS:PUBLIC
DESCRIPTION:https://calendify.com/session/e2bOyAywOw1
DTSTAMP:20260420T185017Z
CREATED:20211225T213002Z
LAST-MODIFIED:20211230T225002Z
END:VEVENT
END:VCALENDAR