BEGIN:VCALENDAR
VERSION:2.0
PRODID:calendify.com
BEGIN:VEVENT
UID:calendify-session-e2bOyD264w1
DTSTART:20220609T103000Z
SEQUENCE:0
TRANSP:OPAQUE
DTEND:20220609T113000Z
URL:https://calendify.com/session/e2bOyD264w1
LOCATION:Makerspace
SUMMARY:Rethink the Future of Plastic!
CLASS:PUBLIC
DESCRIPTION:https://calendify.com/session/e2bOyD264w1
DTSTAMP:20260423T162229Z
CREATED:20220526T162945Z
LAST-MODIFIED:20220613T235204Z
END:VEVENT
END:VCALENDAR