BEGIN:VCALENDAR
VERSION:2.0
PRODID:calendify.com
BEGIN:VEVENT
UID:calendify-session-e2bOyD9G4w1
DTSTART:20161230T111500Z
SEQUENCE:0
TRANSP:OPAQUE
DTEND:20161230T114500Z
URL:https://calendify.com/session/e2bOyD9G4w1
LOCATION:Saal 1
SUMMARY:The High Priests of the Digital Age
CLASS:PUBLIC
DESCRIPTION:https://calendify.com/session/e2bOyD9G4w1
DTSTAMP:20260422T180040Z
CREATED:20220415T135303Z
LAST-MODIFIED:20220415T135303Z
END:VEVENT
END:VCALENDAR