BEGIN:VCALENDAR
VERSION:2.0
PRODID:calendify.com
BEGIN:VEVENT
UID:calendify-session-e2bOyDEX4w1
DTSTART:20220205T130000Z
SEQUENCE:0
TRANSP:OPAQUE
DTEND:20220205T133000Z
URL:https://calendify.com/session/e2bOyDEX4w1
LOCATION:D.legal
SUMMARY:A globally unified governance framework for Open Source
CLASS:PUBLIC
DESCRIPTION:https://calendify.com/session/e2bOyDEX4w1
DTSTAMP:20260423T083318Z
CREATED:20220127T100102Z
LAST-MODIFIED:20220206T225002Z
END:VEVENT
END:VCALENDAR