BEGIN:VCALENDAR
VERSION:2.0
PRODID:calendify.com
BEGIN:VEVENT
UID:calendify-session-e2bOyDPL4w1
DTSTART:20220609T164500Z
SEQUENCE:0
TRANSP:OPAQUE
DTEND:20220609T171500Z
URL:https://calendify.com/session/e2bOyDPL4w1
LOCATION:Stage 6
SUMMARY:Live. Die. Repeat? Computerspiele und der Tod
CLASS:PUBLIC
DESCRIPTION:https://calendify.com/session/e2bOyDPL4w1
DTSTAMP:20260420T011544Z
CREATED:20220526T162944Z
LAST-MODIFIED:20220613T235204Z
END:VEVENT
END:VCALENDAR