BEGIN:VCALENDAR
VERSION:2.0
PRODID:calendify.com
BEGIN:VEVENT
UID:calendify-session-e2bOyDQ64w1
DTSTART:20220206T140000Z
SEQUENCE:0
TRANSP:OPAQUE
DTEND:20220206T150000Z
URL:https://calendify.com/session/e2bOyDQ64w1
LOCATION:D.postgresql
SUMMARY:Exploring Linux Memory Usage and IO Performance for Cloud Native Da
 tabases
CLASS:PUBLIC
DESCRIPTION:https://calendify.com/session/e2bOyDQ64w1
DTSTAMP:20260422T204051Z
CREATED:20220120T214609Z
LAST-MODIFIED:20220206T225004Z
END:VEVENT
END:VCALENDAR