BEGIN:VCALENDAR
VERSION:2.0
PRODID:calendify.com
BEGIN:VEVENT
UID:calendify-session-e2bOyDax4w1
DTSTART:20220724T160000Z
SEQUENCE:0
TRANSP:OPAQUE
DTEND:20220724T165000Z
URL:https://calendify.com/session/e2bOyDax4w1
LOCATION:Battery 🔋
SUMMARY:Building modern and robust Web-Applications in 2021\, without writi
 ng any JavaScript
CLASS:PUBLIC
DESCRIPTION:https://calendify.com/session/e2bOyDax4w1
DTSTAMP:20260422T191627Z
CREATED:20220620T212434Z
LAST-MODIFIED:20220726T182703Z
END:VEVENT
END:VCALENDAR