BEGIN:VCALENDAR
VERSION:2.0
PRODID:calendify.com
BEGIN:VEVENT
UID:calendify-session-e2bOyDb64w1
DTSTART:20220206T162000Z
SEQUENCE:0
TRANSP:OPAQUE
DTEND:20220206T170000Z
URL:https://calendify.com/session/e2bOyDb64w1
LOCATION:D.dependency
SUMMARY:Panel 4: Software Compositions and Dependency Tools
CLASS:PUBLIC
DESCRIPTION:https://calendify.com/session/e2bOyDb64w1
DTSTAMP:20260420T080537Z
CREATED:20220120T214609Z
LAST-MODIFIED:20220206T225004Z
END:VEVENT
END:VCALENDAR