BEGIN:VCALENDAR
VERSION:2.0
PRODID:calendify.com
BEGIN:VEVENT
UID:calendify-session-e2bOyDdw4w1
DTSTART:20220611T110000Z
SEQUENCE:0
TRANSP:OPAQUE
DTEND:20220611T113500Z
URL:https://calendify.com/session/e2bOyDdw4w1
LOCATION:The .txt Beach
SUMMARY:Lukas Rietzschel liest aus \"Raumfahrer\"
CLASS:PUBLIC
DESCRIPTION:https://calendify.com/session/e2bOyDdw4w1
DTSTAMP:20260423T214659Z
CREATED:20220526T162948Z
LAST-MODIFIED:20220613T235204Z
END:VEVENT
END:VCALENDAR