BEGIN:VCALENDAR
VERSION:2.0
PRODID:calendify.com
BEGIN:VEVENT
UID:calendify-session-e2bOyDpG4w1
DTSTART:20220609T130000Z
SEQUENCE:0
TRANSP:OPAQUE
DTEND:20220609T140000Z
URL:https://calendify.com/session/e2bOyDpG4w1
LOCATION:Stage 2
SUMMARY:Neues Leben und Arbeiten auf dem Land  - Smart Country Brandenburg 
 und Sachsen-Anhalt
CLASS:PUBLIC
DESCRIPTION:https://calendify.com/session/e2bOyDpG4w1
DTSTAMP:20260424T003249Z
CREATED:20220605T230943Z
LAST-MODIFIED:20220613T235204Z
END:VEVENT
END:VCALENDAR