BEGIN:VCALENDAR
VERSION:2.0
PRODID:calendify.com
BEGIN:VEVENT
UID:calendify-session-e2bOyDyX4w1
DTSTART:20220609T130000Z
SEQUENCE:0
TRANSP:OPAQUE
DTEND:20220609T140000Z
URL:https://calendify.com/session/e2bOyDyX4w1
LOCATION:Stage 6
SUMMARY:Bottom up\, pants down! Die Schöpfungskraft von partizipativer Pla
 nung am Beispiel des ecovillage hannover
CLASS:PUBLIC
DESCRIPTION:https://calendify.com/session/e2bOyDyX4w1
DTSTAMP:20260421T123843Z
CREATED:20220526T162945Z
LAST-MODIFIED:20220613T235204Z
END:VEVENT
END:VCALENDAR