BEGIN:VCALENDAR
VERSION:2.0
PRODID:calendify.com
BEGIN:VEVENT
UID:calendify-session-e2bOyY2ROw1
DTSTART:20201228T110000Z
SEQUENCE:0
TRANSP:OPAQUE
DTEND:20201228T122000Z
URL:https://calendify.com/session/e2bOyY2ROw1
LOCATION:Chaos-West TV
SUMMARY:Internet of Telemetry: I Know What You Did Last Lockdown
CLASS:PUBLIC
DESCRIPTION:https://calendify.com/session/e2bOyY2ROw1
DTSTAMP:20260420T201159Z
CREATED:20201221T231541Z
LAST-MODIFIED:20211226T145802Z
END:VEVENT
END:VCALENDAR