BEGIN:VCALENDAR
VERSION:2.0
PRODID:calendify.com
BEGIN:VEVENT
UID:calendify-session-e2bOyY7GOw1
DTSTART:20200905T230000Z
SEQUENCE:0
TRANSP:OPAQUE
DTEND:20200906T020000Z
URL:https://calendify.com/session/e2bOyY7GOw1
LOCATION:Schneider-Hoover
SUMMARY:Morelle
CLASS:PUBLIC
DESCRIPTION:https://calendify.com/session/e2bOyY7GOw1
DTSTAMP:20260420T161230Z
CREATED:20200904T143714Z
LAST-MODIFIED:20200904T143714Z
END:VEVENT
END:VCALENDAR