BEGIN:VCALENDAR
VERSION:2.0
PRODID:calendify.com
BEGIN:VEVENT
UID:calendify-session-e2bOyYqXOw1
DTSTART:20171227T193000Z
SEQUENCE:0
TRANSP:OPAQUE
DTEND:20171227T200000Z
URL:https://calendify.com/session/e2bOyYqXOw1
LOCATION:Saal Dijkstra
SUMMARY:Ecstasy 10x yellow Twitter 120mg Mdma
CLASS:PUBLIC
DESCRIPTION:https://calendify.com/session/e2bOyYqXOw1
DTSTAMP:20260424T063956Z
CREATED:20200625T113327Z
LAST-MODIFIED:20200625T113327Z
END:VEVENT
END:VCALENDAR