BEGIN:VCALENDAR
VERSION:2.0
PRODID:calendify.com
BEGIN:VEVENT
UID:calendify-session-e2bOyYvXOw1
DTSTART:20171227T114500Z
SEQUENCE:0
TRANSP:OPAQUE
DTEND:20171227T124500Z
URL:https://calendify.com/session/e2bOyYvXOw1
LOCATION:Saal Adams
SUMMARY:Ladeinfrastruktur für Elektroautos: Ausbau statt Sicherheit
CLASS:PUBLIC
DESCRIPTION:https://calendify.com/session/e2bOyYvXOw1
DTSTAMP:20260422T210911Z
CREATED:20200625T113327Z
LAST-MODIFIED:20200625T113327Z
END:VEVENT
END:VCALENDAR