BEGIN:VCALENDAR
VERSION:2.0
PRODID:calendify.com
BEGIN:VEVENT
UID:calendify-session-e2bOyeJxOw1
DTSTART:20210207T133000Z
SEQUENCE:0
TRANSP:OPAQUE
DTEND:20210207T140000Z
URL:https://calendify.com/session/e2bOyeJxOw1
LOCATION:D.python
SUMMARY:Beyond CUDA: GPU Accelerated Python on Cross-Vendor Graphics Cards 
 with Vulkan Kompute 
CLASS:PUBLIC
DESCRIPTION:https://calendify.com/session/e2bOyeJxOw1
DTSTAMP:20260424T014906Z
CREATED:20210201T190824Z
LAST-MODIFIED:20210208T224804Z
END:VEVENT
END:VCALENDAR