BEGIN:VCALENDAR
VERSION:2.0
PRODID:calendify.com
BEGIN:VEVENT
UID:calendify-session-e2bOyeNGOw1
DTSTART:20210207T160000Z
SEQUENCE:0
TRANSP:OPAQUE
DTEND:20210207T170000Z
URL:https://calendify.com/session/e2bOyeNGOw1
LOCATION:D.legal
SUMMARY:PANEL: Organizers of the Legal & Policy DevRoom
CLASS:PUBLIC
DESCRIPTION:https://calendify.com/session/e2bOyeNGOw1
DTSTAMP:20260419T212057Z
CREATED:20210122T190821Z
LAST-MODIFIED:20210208T224804Z
END:VEVENT
END:VCALENDAR