BEGIN:VCALENDAR
VERSION:2.0
PRODID:calendify.com
BEGIN:VEVENT
UID:calendify-session-e2bOyePDOw1
DTSTART:20210207T144000Z
SEQUENCE:0
TRANSP:OPAQUE
DTEND:20210207T150000Z
URL:https://calendify.com/session/e2bOyePDOw1
LOCATION:L.lightningtalks
SUMMARY:Accessibility Considerations 
CLASS:PUBLIC
DESCRIPTION:https://calendify.com/session/e2bOyePDOw1
DTSTAMP:20260419T194800Z
CREATED:20210117T190819Z
LAST-MODIFIED:20210208T224803Z
END:VEVENT
END:VCALENDAR