BEGIN:VCALENDAR
VERSION:2.0
PRODID:calendify.com
BEGIN:VEVENT
UID:calendify-session-e2bOyePGOw1
DTSTART:20210206T080000Z
SEQUENCE:0
TRANSP:OPAQUE
DTEND:20210206T170000Z
URL:https://calendify.com/session/e2bOyePGOw1
LOCATION:I.infodesk
SUMMARY:The Virtual FOSDEM Infodesk (Saturday)
CLASS:PUBLIC
DESCRIPTION:https://calendify.com/session/e2bOyePGOw1
DTSTAMP:20260424T014329Z
CREATED:20210118T190822Z
LAST-MODIFIED:20210208T224803Z
END:VEVENT
END:VCALENDAR