BEGIN:VCALENDAR
VERSION:2.0
PRODID:calendify.com
BEGIN:VEVENT
UID:calendify-session-e2bOyenXOw1
DTSTART:20210207T140000Z
SEQUENCE:0
TRANSP:OPAQUE
DTEND:20210207T143000Z
URL:https://calendify.com/session/e2bOyenXOw1
LOCATION:D.libreoffice
SUMMARY:Porting LibreOffice to macOS on Apple Silicon
CLASS:PUBLIC
DESCRIPTION:https://calendify.com/session/e2bOyenXOw1
DTSTAMP:20260423T174851Z
CREATED:20210111T170320Z
LAST-MODIFIED:20210208T224804Z
END:VEVENT
END:VCALENDAR