BEGIN:VCALENDAR
VERSION:2.0
PRODID:calendify.com
BEGIN:VEVENT
UID:calendify-session-e2bOyo7xgw1
DTSTART:20260201T131000Z
SEQUENCE:0
TRANSP:OPAQUE
DTEND:20260201T135500Z
URL:https://calendify.com/session/e2bOyo7xgw1
LOCATION:K.3.601
SUMMARY:Machine Learning on Air: Overview and Tutorial on Open-Source Machi
 ne Learning Frameworks for DSP and Radio
CLASS:PUBLIC
DESCRIPTION:https://calendify.com/session/e2bOyo7xgw1
DTSTAMP:20260424T073222Z
CREATED:20260131T063311Z
LAST-MODIFIED:20260201T163231Z
END:VEVENT
END:VCALENDAR