BEGIN:VCALENDAR
VERSION:2.0
PRODID:calendify.com
BEGIN:VEVENT
UID:calendify-session-e2bOyq6ROw1
DTSTART:20230714T140000Z
SEQUENCE:0
TRANSP:OPAQUE
DTEND:20230714T150000Z
URL:https://calendify.com/session/e2bOyq6ROw1
LOCATION:Raum 1.5
SUMMARY:Hannover\, deine Straßen
CLASS:PUBLIC
DESCRIPTION:https://calendify.com/session/e2bOyq6ROw1
DTSTAMP:20260420T163109Z
CREATED:20230806T113150Z
LAST-MODIFIED:20230806T113150Z
END:VEVENT
END:VCALENDAR