BEGIN:VCALENDAR
VERSION:2.0
PRODID:calendify.com
BEGIN:VEVENT
UID:calendify-session-e2bOyqGDOw1
DTSTART:20231227T150000Z
SEQUENCE:0
TRANSP:OPAQUE
DTEND:20231227T160000Z
URL:https://calendify.com/session/e2bOyqGDOw1
LOCATION:Bits & Bäume Workshop Space
SUMMARY:DearMEP: EU Lobbying FOSS Tool
CLASS:PUBLIC
DESCRIPTION:https://calendify.com/session/e2bOyqGDOw1
DTSTAMP:20260423T020335Z
CREATED:20231221T182736Z
LAST-MODIFIED:20240401T142932Z
END:VEVENT
END:VCALENDAR